BEGIN:VCALENDAR
VERSION:2.0
PRODID:-//Plone.org//NONSGML plone.app.event//EN
X-WR-TIMEZONE:US/Central
BEGIN:VEVENT
SUMMARY:Martin Luther King Jr. Day: Library closed
DTSTART;VALUE=DATE:20250120
DTEND;VALUE=DATE:20250121
DTSTAMP:20260421T202809Z
UID:7b28b11866754286922bee4ac80fede0@saas_stack_varnish:6080
CATEGORIES:closed
CREATED:20220418T161106Z
DESCRIPTION:The library will be closed in observance of Martin Luther King
  Jr. Day.
LAST-MODIFIED:20220715T135843Z
URL:https://www.putnamcl.lib.mo.us/calendar-news/events/martin-luther-king
 -jr-day-library-closed/2025-01-20
END:VEVENT
END:VCALENDAR
